BEGIN:VCALENDAR
VERSION:2.0
PRODID:-//Alabama Republican Party - ECPv5.8.2//NONSGML v1.0//EN
CALSCALE:GREGORIAN
METHOD:PUBLISH
X-WR-CALNAME:Alabama Republican Party
X-ORIGINAL-URL:https://algop.org
X-WR-CALDESC:Events for Alabama Republican Party
BEGIN:VTIMEZONE
TZID:America/Chicago
BEGIN:DAYLIGHT
TZOFFSETFROM:-0600
TZOFFSETTO:-0500
TZNAME:CDT
DTSTART:20140309T080000
END:DAYLIGHT
BEGIN:STANDARD
TZOFFSETFROM:-0500
TZOFFSETTO:-0600
TZNAME:CST
DTSTART:20141102T070000
END:STANDARD
END:VTIMEZONE
BEGIN:VEVENT
DTSTART;TZID=America/Chicago:20140701T110000
DTEND;TZID=America/Chicago:20140701T123000
DTSTAMP:20260420T015642
CREATED:20140707T141307Z
LAST-MODIFIED:20140707T141307Z
UID:11576-1404212400-1404217800@algop.org
SUMMARY:July 2014 luncheon/meeting of the Republican Women of Huntsville
DESCRIPTION:The speakers for the July 2014 luncheon/meeting will be Alabama Attorney General\, Luther Strange\, and Congressman Mo Brooks. The social begins at 11:00a.m. and the program will begin at 11:30. For reservations\, please contact Jennifer Barger at JBarger09@gmail.com or 256-585-7780. You may also RSVP via our Facebook page.
URL:https://algop.org/event/july-2014-luncheonmeeting-republican-women-huntsville/
LOCATION:The Ledges Club\, 32 Castledown Dr. \, Huntsville\, AL\, 35802\, United States
ORGANIZER;CN="Republican%20Women%20of%20Huntsville":MAILTO:lenvaught@gmail.com
END:VEVENT
END:VCALENDAR