BEGIN:VCALENDAR
VERSION:2.0
PRODID:-//Alabama Republican Party - ECPv5.8.2//NONSGML v1.0//EN
CALSCALE:GREGORIAN
METHOD:PUBLISH
X-WR-CALNAME:Alabama Republican Party
X-ORIGINAL-URL:https://algop.org
X-WR-CALDESC:Events for Alabama Republican Party
BEGIN:VTIMEZONE
TZID:America/Chicago
BEGIN:DAYLIGHT
TZOFFSETFROM:-0600
TZOFFSETTO:-0500
TZNAME:CDT
DTSTART:20140309T080000
END:DAYLIGHT
BEGIN:STANDARD
TZOFFSETFROM:-0500
TZOFFSETTO:-0600
TZNAME:CST
DTSTART:20141102T070000
END:STANDARD
END:VTIMEZONE
BEGIN:VEVENT
DTSTART;TZID=America/Chicago:20140623T170000
DTEND;TZID=America/Chicago:20140628T130000
DTSTAMP:20260420T015736
CREATED:20140513T173557Z
LAST-MODIFIED:20140513T173557Z
UID:11280-1403542800-1403960400@algop.org
SUMMARY:2014 Chilton Co. Peach Festival
DESCRIPTION:2014 Chilton Co. Peach Festival \nJune 23 – 26 Peach Pageants at Chilton Co. High School – evening \nJune 27 – Peach Jam Jubilee at Clanton City Park – 5:00 p.m.-11:00 p.m. \nJune 28 – Peach Parade\, Prize Peach Auction and Veterans Cookout – 9:00 a.m. – 1:00 p.m. \nTo purchase ads in Peach Festival Program; sponsorship for Peach Jam; purchase a Peach Jam booth or ride in the Peach Festival Parade contact Renee Powers for additional information and forms. \ntwpowers@bellsouth.net or 205-755-0889 \nAll Republican elected officials and candidates are welcome.
URL:https://algop.org/event/2014-chilton-co-peach-festival/
LOCATION:Chilton County\, Clanton\, AL\, United States
ORGANIZER;CN="Chilton%20County%20Republican%20Executive%20Committee%20Meeting":MAILTO:twpowers@bellsouth.net
END:VEVENT
BEGIN:VEVENT
DTSTART;TZID=America/Chicago:20140624T170000
DTEND;TZID=America/Chicago:20140624T190000
DTSTAMP:20260420T015736
CREATED:20140707T141521Z
LAST-MODIFIED:20140707T141521Z
UID:11573-1403629200-1403636400@algop.org
SUMMARY:Pike County's Republican Candidate Meet and Greet
DESCRIPTION:A Meet and Greet will be held to introduce Pike County’s Republican candidates for sheriff and revenue commissioner to the voters. Come and support our nominees.
URL:https://algop.org/event/pike-countys-republican-candidate-meet-greet/
LOCATION:The Emporium\, 112 W Walnut Street\, Troy\, AL\, 36081\, United States
ORGANIZER;CN="Friends%20of%20the%20Candidates":MAILTO:leestroy@reagan.com
END:VEVENT
END:VCALENDAR