BEGIN:VCALENDAR
VERSION:2.0
PRODID:-//Alabama Republican Party - ECPv5.8.2//NONSGML v1.0//EN
CALSCALE:GREGORIAN
METHOD:PUBLISH
X-WR-CALNAME:Alabama Republican Party
X-ORIGINAL-URL:https://algop.org
X-WR-CALDESC:Events for Alabama Republican Party
BEGIN:VTIMEZONE
TZID:America/Chicago
BEGIN:DAYLIGHT
TZOFFSETFROM:-0600
TZOFFSETTO:-0500
TZNAME:CDT
DTSTART:20140309T080000
END:DAYLIGHT
BEGIN:STANDARD
TZOFFSETFROM:-0500
TZOFFSETTO:-0600
TZNAME:CST
DTSTART:20141102T070000
END:STANDARD
END:VTIMEZONE
BEGIN:VEVENT
DTSTART;TZID=America/Chicago:20140520T180000
DTEND;TZID=America/Chicago:20140520T200000
DTSTAMP:20260422T050310
CREATED:20140513T172755Z
LAST-MODIFIED:20140513T172755Z
UID:11270-1400608800-1400616000@algop.org
SUMMARY:Primary Palooza hosted by Madison County Young Republicans
DESCRIPTION:The Madison County Young Republicans are hosting a Primary Palooza on May 20 at 6:00 PM. The event will be held at AM Booth’s Lumberyard (108 Cleveland Ave Huntsville\, AL 35801). Gibson’s Bar-B-Q will provide a delicious meal\, and JED Eye will offer live music. Local and statewide candidates have been invited. Tickets are $10 in advance or at the door. \nFor more information\, please contact MCYR Event Chair David Pinkleton: (256) 714-1142 or davidpinkleton@hotmail.com
URL:https://algop.org/event/primary-palooza-hosted-madison-county-young-republicans/
LOCATION:AM Booth’s Lumberyard\, 108 Cleveland Ave\, Huntsville\, AL\, United States
ORGANIZER;CN="Madison%20County%20Young%20Republicans":MAILTO:davidpinkleton@hotmail.com
END:VEVENT
END:VCALENDAR