BEGIN:VCALENDAR
VERSION:2.0
PRODID:-//Alabama Republican Party - ECPv5.8.2//NONSGML v1.0//EN
CALSCALE:GREGORIAN
METHOD:PUBLISH
X-WR-CALNAME:Alabama Republican Party
X-ORIGINAL-URL:https://algop.org
X-WR-CALDESC:Events for Alabama Republican Party
BEGIN:VTIMEZONE
TZID:America/Chicago
BEGIN:DAYLIGHT
TZOFFSETFROM:-0600
TZOFFSETTO:-0500
TZNAME:CDT
DTSTART:20140309T080000
END:DAYLIGHT
BEGIN:STANDARD
TZOFFSETFROM:-0500
TZOFFSETTO:-0600
TZNAME:CST
DTSTART:20141102T070000
END:STANDARD
END:VTIMEZONE
BEGIN:VEVENT
DTSTART;TZID=America/Chicago:20140519T180000
DTEND;TZID=America/Chicago:20140519T200000
DTSTAMP:20260422T050232
CREATED:20140513T172334Z
LAST-MODIFIED:20140513T172334Z
UID:11261-1400522400-1400529600@algop.org
SUMMARY:Protect Pike County Values Rally
DESCRIPTION:Who: Pike Co Republican Party \nWhat: “Protect Pike County Values” Straw Poll & Rally \nWhen: Monday May 19\, 2014 – 6:00 PM \nWhere: Cattlemen Park (Hwy 231 b/w Troy & Brundidge) \n  \nAdmission Info: \n$10 ticket-includes hamburger\, fries and fountain drink & straw poll ballot. \n$100 ticket-includes hamburger\, fries\, fountain drink\, Meet & Greet with Gov Bentley\, membership to the Pike Co Republican Party & straw poll ballot. \nGov Robert Bentley & Lt. Gov Kay Ivey be joined by other elected officials\, in addition to candidates for statewide and local offices. \nGov. Bentley will address those in attendance. Music & Entertainment\, in addition to guest speakers. \nContact Chairman Jeffrey Knight at jeffknight@knightandson.net or call (334) 344-4363 for more details.
URL:https://algop.org/event/protect-pike-county-values-rally/
LOCATION:Cattlemen Park\, Troy\, AL\, United States
END:VEVENT
BEGIN:VEVENT
DTSTART;TZID=America/Chicago:20140519T183000
DTEND;TZID=America/Chicago:20140519T200000
DTSTAMP:20260422T050232
CREATED:20140513T172455Z
LAST-MODIFIED:20140513T172455Z
UID:11264-1400524200-1400529600@algop.org
SUMMARY:Chilton County Republican Executive Committee Meeting
DESCRIPTION:Chilton County Republican Executive Committee Meeting is Monday\, May 19 at 6:30 p.m. in the Chilton County Courthouse on the 3rd floor. Everyone is welcome!! Candidates please\, let us know of your attendance.\nRenee` Powers 205-755-0889 or twpowers@bellsouth.net
URL:https://algop.org/event/chilton-county-republican-executive-committee-meeting/
LOCATION:Chilton County Courthouse\, 500 2nd Ave North\, Clanton\, AL\, 25045\, United States
ORGANIZER;CN="Chilton%20County%20Republican%20Executive%20Committee%20Meeting":MAILTO:twpowers@bellsouth.net
END:VEVENT
BEGIN:VEVENT
DTSTART;TZID=America/Chicago:20140519T190000
DTEND;TZID=America/Chicago:20140519T200000
DTSTAMP:20260422T050232
CREATED:20140513T172626Z
LAST-MODIFIED:20140513T172626Z
UID:11267-1400526000-1400529600@algop.org
SUMMARY:Regular Monthly Meeting of the Madison County Republican Executive Committee
DESCRIPTION:The regular monthly meeting of the Madison County Republican Executive Committee will be held on Monday\, May 19 at 7:00 pm at the Renasant Bank Community Room\, 4245 Balmoral Drive\, Huntsville\, AL. For more information\, contact Chairman John Como at 256-604-0948 or johnacomo@bellsouth.net
URL:https://algop.org/event/regular-monthly-meeting-madison-county-republican-executive-committee/
LOCATION:Renasant Bank Community Room\, 4245 Balmoral Drive\, Huntsville\, AL\, United States
END:VEVENT
END:VCALENDAR