BEGIN:VCALENDAR
VERSION:2.0
PRODID:-//Alabama Republican Party - ECPv5.8.2//NONSGML v1.0//EN
CALSCALE:GREGORIAN
METHOD:PUBLISH
X-WR-CALNAME:Alabama Republican Party
X-ORIGINAL-URL:https://algop.org
X-WR-CALDESC:Events for Alabama Republican Party
BEGIN:VTIMEZONE
TZID:America/Chicago
BEGIN:DAYLIGHT
TZOFFSETFROM:-0600
TZOFFSETTO:-0500
TZNAME:CDT
DTSTART:20200308T080000
END:DAYLIGHT
BEGIN:STANDARD
TZOFFSETFROM:-0500
TZOFFSETTO:-0600
TZNAME:CST
DTSTART:20201101T070000
END:STANDARD
END:VTIMEZONE
BEGIN:VEVENT
DTSTART;TZID=America/Chicago:20201214T180000
DTEND;TZID=America/Chicago:20201214T190000
DTSTAMP:20260423T180630
CREATED:20200122T161025Z
LAST-MODIFIED:20201209T192547Z
UID:26273-1607968800-1607972400@algop.org
SUMMARY:Winston County Republican Party *CANCELLED*
DESCRIPTION:
URL:https://algop.org/event/winston-county-republican-party-2020-12-14/
LOCATION:Winston County Courthouse\, 25166 Highway 195\, Double Springs\, AL\, 35553\, United States
END:VEVENT
END:VCALENDAR