BEGIN:VCALENDAR
VERSION:2.0
PRODID:-//Alabama Republican Party - ECPv5.8.2//NONSGML v1.0//EN
CALSCALE:GREGORIAN
METHOD:PUBLISH
X-WR-CALNAME:Alabama Republican Party
X-ORIGINAL-URL:https://algop.org
X-WR-CALDESC:Events for Alabama Republican Party
BEGIN:VTIMEZONE
TZID:America/Chicago
BEGIN:DAYLIGHT
TZOFFSETFROM:-0600
TZOFFSETTO:-0500
TZNAME:CDT
DTSTART:20150308T080000
END:DAYLIGHT
BEGIN:STANDARD
TZOFFSETFROM:-0500
TZOFFSETTO:-0600
TZNAME:CST
DTSTART:20151101T070000
END:STANDARD
END:VTIMEZONE
BEGIN:VEVENT
DTSTART;TZID=America/Chicago:20151020T180000
DTEND;TZID=America/Chicago:20151020T195000
DTSTAMP:20260423T194353
CREATED:20151008T175834Z
LAST-MODIFIED:20151008T175834Z
UID:13537-1445364000-1445370600@algop.org
SUMMARY:Walker County Republican Party Meeting
DESCRIPTION:Guest Speaker:  John Merrill\, Al Secretary of State
URL:https://algop.org/event/walker-county-republican-party-meeting/
LOCATION:Bevill State Community College Cafeteria\, Jasper\, AL\, United States
END:VEVENT
END:VCALENDAR