BEGIN:VCALENDAR
VERSION:2.0
PRODID:-//Alabama Republican Party - ECPv5.8.2//NONSGML v1.0//EN
CALSCALE:GREGORIAN
METHOD:PUBLISH
X-WR-CALNAME:Alabama Republican Party
X-ORIGINAL-URL:https://algop.org
X-WR-CALDESC:Events for Alabama Republican Party
BEGIN:VTIMEZONE
TZID:America/Chicago
BEGIN:DAYLIGHT
TZOFFSETFROM:-0600
TZOFFSETTO:-0500
TZNAME:CDT
DTSTART:20190310T080000
END:DAYLIGHT
BEGIN:STANDARD
TZOFFSETFROM:-0500
TZOFFSETTO:-0600
TZNAME:CST
DTSTART:20191103T070000
END:STANDARD
END:VTIMEZONE
BEGIN:VEVENT
DTSTART;TZID=America/Chicago:20190328T180000
DTEND;TZID=America/Chicago:20190328T200000
DTSTAMP:20260424T064140
CREATED:20190306T172735Z
LAST-MODIFIED:20190306T172735Z
UID:24180-1553796000-1553803200@algop.org
SUMMARY:Walker County Republican Party March Meeting
DESCRIPTION:The Walker County Republican Party will host Alabama Secretary of State John Merrill as their guest speaker.
URL:https://algop.org/event/walker-county-republican-party-march-meeting/
LOCATION:Bevill State Community College in Fayette\, 2631 Temple Ave N\, Fayette\, AL\, 35555\, United States
END:VEVENT
END:VCALENDAR