BEGIN:VCALENDAR
VERSION:2.0
PRODID:-//Alabama Republican Party - ECPv5.8.2//NONSGML v1.0//EN
CALSCALE:GREGORIAN
METHOD:PUBLISH
X-WR-CALNAME:Alabama Republican Party
X-ORIGINAL-URL:https://algop.org
X-WR-CALDESC:Events for Alabama Republican Party
BEGIN:VTIMEZONE
TZID:America/Chicago
BEGIN:DAYLIGHT
TZOFFSETFROM:-0600
TZOFFSETTO:-0500
TZNAME:CDT
DTSTART:20150308T080000
END:DAYLIGHT
BEGIN:STANDARD
TZOFFSETFROM:-0500
TZOFFSETTO:-0600
TZNAME:CST
DTSTART:20151101T070000
END:STANDARD
END:VTIMEZONE
BEGIN:VEVENT
DTSTART;TZID=America/Chicago:20150813T173000
DTEND;TZID=America/Chicago:20150813T190000
DTSTAMP:20260425T110314
CREATED:20150624T144010Z
LAST-MODIFIED:20150624T144010Z
UID:13312-1439487000-1439492400@algop.org
SUMMARY:Walker County GOP Dinner
DESCRIPTION:Fundraiser with Guest Speaker Steve Flowers
URL:https://algop.org/event/walker-county-gop-dinner/
LOCATION:Community Health Systems Bldg.\, 204 19th Street East\, Jasper\, AL\, 35501\, United States
ORGANIZER;CN="Walker%20County%20Republican%20Party":MAILTO:lensor@att.net
END:VEVENT
END:VCALENDAR