BEGIN:VCALENDAR
VERSION:2.0
PRODID:-//Alabama Republican Party - ECPv5.8.2//NONSGML v1.0//EN
CALSCALE:GREGORIAN
METHOD:PUBLISH
X-WR-CALNAME:Alabama Republican Party
X-ORIGINAL-URL:https://algop.org
X-WR-CALDESC:Events for Alabama Republican Party
BEGIN:VTIMEZONE
TZID:America/Chicago
BEGIN:DAYLIGHT
TZOFFSETFROM:-0600
TZOFFSETTO:-0500
TZNAME:CDT
DTSTART:20150308T080000
END:DAYLIGHT
BEGIN:STANDARD
TZOFFSETFROM:-0500
TZOFFSETTO:-0600
TZNAME:CST
DTSTART:20151101T070000
END:STANDARD
END:VTIMEZONE
BEGIN:VEVENT
DTSTART;TZID=America/Chicago:20150724T180000
DTEND;TZID=America/Chicago:20150725T140000
DTSTAMP:20260425T141011
CREATED:20150710T173849Z
LAST-MODIFIED:20150710T173849Z
UID:13422-1437760800-1437832800@algop.org
SUMMARY:The National Federation of Republican Women Region 7 Meeting Dinner with Alabama Senator Jeff Sessions
DESCRIPTION:Lunch with Tennessee Congressman Marsha Blackburn\nTown hall discussion with Alabama Congressman Mo Brooks \nJuly 24 and 25\, 2015\nBeginning Friday at 6:00 p.m. — Through 2:00 p.m. Saturday\nJackson Center\n600 Genome Way (off MoquinDrive)\nHuntsville\, Alabama \nFor more information: NFRW Region 7 Information Flyer
URL:https://algop.org/event/the-national-federation-of-republican-women-region-7-meeting-dinner-with-alabama-senator-jeff-sessions/
LOCATION:Jackson Center\, 600 Genome Way\, Huntsville\, AL
END:VEVENT
END:VCALENDAR