BEGIN:VCALENDAR
VERSION:2.0
PRODID:-//Alabama Republican Party - ECPv5.8.2//NONSGML v1.0//EN
CALSCALE:GREGORIAN
METHOD:PUBLISH
X-WR-CALNAME:Alabama Republican Party
X-ORIGINAL-URL:https://algop.org
X-WR-CALDESC:Events for Alabama Republican Party
BEGIN:VTIMEZONE
TZID:America/Chicago
BEGIN:DAYLIGHT
TZOFFSETFROM:-0600
TZOFFSETTO:-0500
TZNAME:CDT
DTSTART:20190310T080000
END:DAYLIGHT
BEGIN:STANDARD
TZOFFSETFROM:-0500
TZOFFSETTO:-0600
TZNAME:CST
DTSTART:20191103T070000
END:STANDARD
END:VTIMEZONE
BEGIN:VEVENT
DTSTART;TZID=America/Chicago:20190413T080000
DTEND;TZID=America/Chicago:20190413T100000
DTSTAMP:20260424T082119
CREATED:20190129T043724Z
LAST-MODIFIED:20190129T043724Z
UID:23663-1555142400-1555149600@algop.org
SUMMARY:Tennessee Valley Republican Club Meeting
DESCRIPTION:Date: Saturday\, April 13 \nTime: Social Hour at 8AM; Meeting at 9AM \nLocation: Earth and Stone Wood Fired Pizza \n107 A/B Brookridge Dr.\, Madison\, AL 35758.
URL:https://algop.org/event/tennessee-valley-republican-club-meeting-3/
END:VEVENT
END:VCALENDAR