BEGIN:VCALENDAR
VERSION:2.0
PRODID:-//Alabama Republican Party - ECPv5.8.2//NONSGML v1.0//EN
CALSCALE:GREGORIAN
METHOD:PUBLISH
X-WR-CALNAME:Alabama Republican Party
X-ORIGINAL-URL:https://algop.org
X-WR-CALDESC:Events for Alabama Republican Party
BEGIN:VTIMEZONE
TZID:America/Chicago
BEGIN:DAYLIGHT
TZOFFSETFROM:-0600
TZOFFSETTO:-0500
TZNAME:CDT
DTSTART:20200308T080000
END:DAYLIGHT
BEGIN:STANDARD
TZOFFSETFROM:-0500
TZOFFSETTO:-0600
TZNAME:CST
DTSTART:20201101T070000
END:STANDARD
END:VTIMEZONE
BEGIN:VEVENT
DTSTART;TZID=America/Chicago:20200225T080000
DTEND;TZID=America/Chicago:20200225T100000
DTSTAMP:20260424T084617
CREATED:20200122T164548Z
LAST-MODIFIED:20200122T164548Z
UID:26317-1582617600-1582624800@algop.org
SUMMARY:Talladega County Republican Party Coffee with the Candidates
DESCRIPTION:
URL:https://algop.org/event/talladega-county-republican-party-coffee-with-the-candidates/
LOCATION:Sylacauga Chamber of Commerce\, 17 W Fort Williams Street\, Sylacauga\, 35150\, United States
END:VEVENT
END:VCALENDAR