BEGIN:VCALENDAR
VERSION:2.0
PRODID:-//Alabama Republican Party - ECPv5.8.2//NONSGML v1.0//EN
CALSCALE:GREGORIAN
METHOD:PUBLISH
X-WR-CALNAME:Alabama Republican Party
X-ORIGINAL-URL:https://algop.org
X-WR-CALDESC:Events for Alabama Republican Party
BEGIN:VTIMEZONE
TZID:America/Chicago
BEGIN:DAYLIGHT
TZOFFSETFROM:-0600
TZOFFSETTO:-0500
TZNAME:CDT
DTSTART:20140309T080000
END:DAYLIGHT
BEGIN:STANDARD
TZOFFSETFROM:-0500
TZOFFSETTO:-0600
TZNAME:CST
DTSTART:20141102T070000
END:STANDARD
END:VTIMEZONE
BEGIN:VEVENT
DTSTART;TZID=America/Chicago:20140707T180000
DTEND;TZID=America/Chicago:20140707T200000
DTSTAMP:20260424T222317
CREATED:20140613T131558Z
LAST-MODIFIED:20140613T131558Z
UID:11522-1404756000-1404763200@algop.org
SUMMARY:State Senate District 30 Runoff Candidate Debate
DESCRIPTION:Who: Republican Club of Central Alabama (RCCA)\nWhat: State Senate District 30 Runoff Candidate Debate\nWhen: Monday\, July 7\, 2014\, 6:30 pm (Dinner begins at 5:30 pm)\nWhere: Bass Pro Shops’ restaurant\, 2553 Rocky Mt Rd\, Prattville\nContact: Don Fisher\, dfisher@knology.net\, 334-221-3175\nDetails: The RCCA will host a debate between the Senate District 30 Primary Election runoff candidates Clyde Chambliss and Harris Garner. The debate will consist of 7 to 10 questions. Alternating candidates will have three minutes to answer a question\, the other will be given two minute to response\, and then the first has one minute for a rebuttal to the response. \nPotential questions for the candidates may be sent to Don Fisher at dfisher@knology.net. \nDinner orders costing $15.00 may be placed between 5:30 and 6:15. Dinner will be on the restaurant patio before moving inside for the debate.
URL:https://algop.org/event/state-senate-district-30-candidates-forum/
END:VEVENT
END:VCALENDAR