BEGIN:VCALENDAR
VERSION:2.0
PRODID:-//Alabama Republican Party - ECPv5.8.2//NONSGML v1.0//EN
CALSCALE:GREGORIAN
METHOD:PUBLISH
X-WR-CALNAME:Alabama Republican Party
X-ORIGINAL-URL:https://algop.org
X-WR-CALDESC:Events for Alabama Republican Party
BEGIN:VTIMEZONE
TZID:America/Chicago
BEGIN:DAYLIGHT
TZOFFSETFROM:-0600
TZOFFSETTO:-0500
TZNAME:CDT
DTSTART:20190310T080000
END:DAYLIGHT
BEGIN:STANDARD
TZOFFSETFROM:-0500
TZOFFSETTO:-0600
TZNAME:CST
DTSTART:20191103T070000
END:STANDARD
END:VTIMEZONE
BEGIN:VEVENT
DTSTART;TZID=America/Chicago:20190218T180000
DTEND;TZID=America/Chicago:20190218T190000
DTSTAMP:20260424T051133
CREATED:20190219T015547Z
LAST-MODIFIED:20190219T015547Z
UID:23969-1550512800-1550516400@algop.org
SUMMARY:Samford University College Republicans Trivia Night
DESCRIPTION:Samford University College Republicans will have a President’s Day trivia night in Brock School of Business Room 279 at 6pm-7pm. Free ChickfilA Nuggets will be available first come first serve.
URL:https://algop.org/event/samford-university-college-republicans-trivia-night/
END:VEVENT
END:VCALENDAR