BEGIN:VCALENDAR
VERSION:2.0
PRODID:-//Alabama Republican Party - ECPv5.8.2//NONSGML v1.0//EN
CALSCALE:GREGORIAN
METHOD:PUBLISH
X-WR-CALNAME:Alabama Republican Party
X-ORIGINAL-URL:https://algop.org
X-WR-CALDESC:Events for Alabama Republican Party
BEGIN:VTIMEZONE
TZID:America/Chicago
BEGIN:DAYLIGHT
TZOFFSETFROM:-0600
TZOFFSETTO:-0500
TZNAME:CDT
DTSTART:20180311T080000
END:DAYLIGHT
BEGIN:STANDARD
TZOFFSETFROM:-0500
TZOFFSETTO:-0600
TZNAME:CST
DTSTART:20181104T070000
END:STANDARD
END:VTIMEZONE
BEGIN:VEVENT
DTSTART;TZID=America/Chicago:20180523T113000
DTEND;TZID=America/Chicago:20180523T130000
DTSTAMP:20260423T171014
CREATED:20180503T142109Z
LAST-MODIFIED:20180503T142313Z
UID:22284-1527075000-1527080400@algop.org
SUMMARY:Republican Women of the South Luncheon Meeting with Governor Ivey
DESCRIPTION:Guest Speaker: Governor Kay Ivey \nLunch Reservations due one week in advance\, Wednesday\, May 16\, 2018 \nLunch Cost $20.00 \nPurchase yours here.
URL:https://algop.org/event/republican-women-of-the-south-luncheon-meeting-with-governor-ivey/
LOCATION:Hoover Country Club\, 3140 Club Drive\, Birmingham\, Jefferson\, 35226
END:VEVENT
END:VCALENDAR