BEGIN:VCALENDAR
VERSION:2.0
PRODID:-//Alabama Republican Party - ECPv5.8.2//NONSGML v1.0//EN
CALSCALE:GREGORIAN
METHOD:PUBLISH
X-WR-CALNAME:Alabama Republican Party
X-ORIGINAL-URL:https://algop.org
X-WR-CALDESC:Events for Alabama Republican Party
BEGIN:VTIMEZONE
TZID:America/Chicago
BEGIN:DAYLIGHT
TZOFFSETFROM:-0600
TZOFFSETTO:-0500
TZNAME:CDT
DTSTART:20190310T080000
END:DAYLIGHT
BEGIN:STANDARD
TZOFFSETFROM:-0500
TZOFFSETTO:-0600
TZNAME:CST
DTSTART:20191103T070000
END:STANDARD
END:VTIMEZONE
BEGIN:VEVENT
DTSTART;TZID=America/Chicago:20190402T113000
DTEND;TZID=America/Chicago:20190402T130000
DTSTAMP:20260424T064447
CREATED:20190318T175900Z
LAST-MODIFIED:20190318T180601Z
UID:24469-1554204600-1554210000@algop.org
SUMMARY:Republican Women of the Shoals
DESCRIPTION:Monthly business meeting:  Social at 11:30am\, Meeting at 12:00pm.  We invite all interested women to join us for a delightful meal prepared by Chef Alan Phillips.  Reservations for dining must be made by noon on the Monday before the meeting to Sara White 256.762.1714 or SaraLazenbyWhite@gmail.com. Please see our page for more information:  https://www.facebook.com/RepublicanWomenOfTheShoals/
URL:https://algop.org/event/republican-women-of-the-shoals/
LOCATION:The Red Clay Table\, 307 North Montgomery Avenue\, Sheffield\, AL\, 35660\, United States
ORGANIZER;CN="Republican%20Women%20of%20the%20Shoals":MAILTO:SaraLazenbyWhite@gmail.com.
END:VEVENT
END:VCALENDAR