BEGIN:VCALENDAR
VERSION:2.0
PRODID:-//Alabama Republican Party - ECPv5.8.2//NONSGML v1.0//EN
CALSCALE:GREGORIAN
METHOD:PUBLISH
X-WR-CALNAME:Alabama Republican Party
X-ORIGINAL-URL:https://algop.org
X-WR-CALDESC:Events for Alabama Republican Party
BEGIN:VTIMEZONE
TZID:America/Chicago
BEGIN:DAYLIGHT
TZOFFSETFROM:-0600
TZOFFSETTO:-0500
TZNAME:CDT
DTSTART:20180311T080000
END:DAYLIGHT
BEGIN:STANDARD
TZOFFSETFROM:-0500
TZOFFSETTO:-0600
TZNAME:CST
DTSTART:20181104T070000
END:STANDARD
END:VTIMEZONE
BEGIN:VEVENT
DTSTART;TZID=America/Chicago:20180525T173000
DTEND;TZID=America/Chicago:20180525T210000
DTSTAMP:20260423T154218
CREATED:20180503T153220Z
LAST-MODIFIED:20180521T195633Z
UID:22296-1527269400-1527282000@algop.org
SUMMARY:Republican Women of Madison: Meet the Candidates Forum
DESCRIPTION:The social hour with food trucks starts at 5:30 p.m. with candidate introductions beginning at 6:30 p.m.\nThis event is open to everyone\, including all Republican candidates. No tickets needed.\nFor more info: www.RepublicanWomenofMadison.com
URL:https://algop.org/event/republican-women-of-madison-meet-the-candidates-forum/
LOCATION:Rocket Republic Brewing Company\, 289 Production Avenue\, Huntsville\, AL\, 35758\, United States
ATTACH;FMTTYPE=image/jpeg:https://algop.org/wp-content/uploads/2018/04/shutterstock-61933045.jpg
END:VEVENT
END:VCALENDAR