BEGIN:VCALENDAR
VERSION:2.0
PRODID:-//Alabama Republican Party - ECPv5.8.2//NONSGML v1.0//EN
CALSCALE:GREGORIAN
METHOD:PUBLISH
X-WR-CALNAME:Alabama Republican Party
X-ORIGINAL-URL:https://algop.org
X-WR-CALDESC:Events for Alabama Republican Party
BEGIN:VTIMEZONE
TZID:America/Chicago
BEGIN:DAYLIGHT
TZOFFSETFROM:-0600
TZOFFSETTO:-0500
TZNAME:CDT
DTSTART:20190310T080000
END:DAYLIGHT
BEGIN:STANDARD
TZOFFSETFROM:-0500
TZOFFSETTO:-0600
TZNAME:CST
DTSTART:20191103T070000
END:STANDARD
END:VTIMEZONE
BEGIN:VEVENT
DTSTART;TZID=America/Chicago:20190402T110000
DTEND;TZID=America/Chicago:20190402T133000
DTSTAMP:20260424T064531
CREATED:20190129T043518Z
LAST-MODIFIED:20190129T043518Z
UID:23661-1554202800-1554211800@algop.org
SUMMARY:Republican Women of Huntsville Meeting
DESCRIPTION:Date: Tuesday\, April 2 \nTime: Social at 11:00AM; luncheon meeting at 11:30AM. \nLocation: The Ledges \n32 Castle Down Dr\, Huntsville\, AL 35802 \n  \nEveryone is welcome to attend. For reservations\, contact Tiffany Noel at tln530@gmail.com. Their web site is: www.republicanwomenofhuntsville.com
URL:https://algop.org/event/republican-women-of-huntsville-meeting-3/
LOCATION:The Ledges Club\, 32 Castledown Dr. \, Huntsville\, AL\, 35802\, United States
END:VEVENT
END:VCALENDAR