BEGIN:VCALENDAR
VERSION:2.0
PRODID:-//Alabama Republican Party - ECPv5.8.2//NONSGML v1.0//EN
CALSCALE:GREGORIAN
METHOD:PUBLISH
X-WR-CALNAME:Alabama Republican Party
X-ORIGINAL-URL:https://algop.org
X-WR-CALDESC:Events for Alabama Republican Party
BEGIN:VTIMEZONE
TZID:America/Chicago
BEGIN:DAYLIGHT
TZOFFSETFROM:-0600
TZOFFSETTO:-0500
TZNAME:CDT
DTSTART:20190310T080000
END:DAYLIGHT
BEGIN:STANDARD
TZOFFSETFROM:-0500
TZOFFSETTO:-0600
TZNAME:CST
DTSTART:20191103T070000
END:STANDARD
END:VTIMEZONE
BEGIN:VEVENT
DTSTART;TZID=America/Chicago:20190305T110000
DTEND;TZID=America/Chicago:20190305T130000
DTSTAMP:20260424T064531
CREATED:20190129T031736Z
LAST-MODIFIED:20190129T031951Z
UID:23639-1551783600-1551790800@algop.org
SUMMARY:Republican Women of Huntsville Meeting
DESCRIPTION:Date: Tuesday\, March 5 \nTime: Social time at 11:00AM; luncheon meeting at 11:30AM \nLocation: The Ledges \n32 Castle Down Dr\, Huntsville\, AL 35802 \n  \nEveryone is welcome to attend. For reservations\, contact Tiffany Noel at tln530@gmail.com.
URL:https://algop.org/event/republican-women-of-huntsville-meeting-2/
END:VEVENT
END:VCALENDAR