BEGIN:VCALENDAR
VERSION:2.0
PRODID:-//Alabama Republican Party - ECPv5.8.2//NONSGML v1.0//EN
CALSCALE:GREGORIAN
METHOD:PUBLISH
X-WR-CALNAME:Alabama Republican Party
X-ORIGINAL-URL:https://algop.org
X-WR-CALDESC:Events for Alabama Republican Party
BEGIN:VTIMEZONE
TZID:America/Chicago
BEGIN:DAYLIGHT
TZOFFSETFROM:-0600
TZOFFSETTO:-0500
TZNAME:CDT
DTSTART:20190310T080000
END:DAYLIGHT
BEGIN:STANDARD
TZOFFSETFROM:-0500
TZOFFSETTO:-0600
TZNAME:CST
DTSTART:20191103T070000
END:STANDARD
END:VTIMEZONE
BEGIN:VEVENT
DTSTART;TZID=America/Chicago:20190225T180000
DTEND;TZID=America/Chicago:20190225T200000
DTSTAMP:20260424T051236
CREATED:20190205T223045Z
LAST-MODIFIED:20190205T223045Z
UID:23776-1551117600-1551124800@algop.org
SUMMARY:North Jefferson County Republican Club Monthly Meeting
DESCRIPTION:Speaker: Dena Dickerson\, Executive Director of Offender Alumni Association \nDate: Monday\, February 25 \nTime: 6 PM – 8 PM \nLocation: Jim ‘N Nick’s – Gardendale \n915 Odum Rd\, Gardendale\, Alabama 35071
URL:https://algop.org/event/north-jefferson-county-republican-club-monthly-meeting-2/
END:VEVENT
END:VCALENDAR