BEGIN:VCALENDAR
VERSION:2.0
PRODID:-//Alabama Republican Party - ECPv5.8.2//NONSGML v1.0//EN
CALSCALE:GREGORIAN
METHOD:PUBLISH
X-WR-CALNAME:Alabama Republican Party
X-ORIGINAL-URL:https://algop.org
X-WR-CALDESC:Events for Alabama Republican Party
BEGIN:VTIMEZONE
TZID:America/Chicago
BEGIN:DAYLIGHT
TZOFFSETFROM:-0600
TZOFFSETTO:-0500
TZNAME:CDT
DTSTART:20230312T080000
END:DAYLIGHT
BEGIN:STANDARD
TZOFFSETFROM:-0500
TZOFFSETTO:-0600
TZNAME:CST
DTSTART:20231105T070000
END:STANDARD
END:VTIMEZONE
BEGIN:VEVENT
DTSTART;TZID=America/Chicago:20231012T180000
DTEND;TZID=America/Chicago:20231012T190000
DTSTAMP:20260419T114107
CREATED:20230111T182006Z
LAST-MODIFIED:20230616T152915Z
UID:33519-1697133600-1697137200@algop.org
SUMMARY:Montgomery County Republican Party Lincoln-Reagan Dinner
DESCRIPTION:
URL:https://algop.org/event/montgomery-county-republican-executive-committee-3-2023-10-12/
LOCATION:RSA Plaza Terrace\, 770 Washington Avenue\, 6th Floor\, Montgomery\, 36104
END:VEVENT
END:VCALENDAR