BEGIN:VCALENDAR
VERSION:2.0
PRODID:-//Alabama Republican Party - ECPv5.8.2//NONSGML v1.0//EN
CALSCALE:GREGORIAN
METHOD:PUBLISH
X-WR-CALNAME:Alabama Republican Party
X-ORIGINAL-URL:https://algop.org
X-WR-CALDESC:Events for Alabama Republican Party
BEGIN:VTIMEZONE
TZID:America/Chicago
BEGIN:DAYLIGHT
TZOFFSETFROM:-0600
TZOFFSETTO:-0500
TZNAME:CDT
DTSTART:20140309T080000
END:DAYLIGHT
BEGIN:STANDARD
TZOFFSETFROM:-0500
TZOFFSETTO:-0600
TZNAME:CST
DTSTART:20141102T070000
END:STANDARD
END:VTIMEZONE
BEGIN:VEVENT
DTSTART;TZID=America/Chicago:20140707T173000
DTEND;TZID=America/Chicago:20140707T200000
DTSTAMP:20260424T224513
CREATED:20140616T184819Z
LAST-MODIFIED:20140616T184819Z
UID:11528-1404754200-1404763200@algop.org
SUMMARY:Mobile County Executive Committee Meet and Greet the Candidates/Book Signing with Shaun McCutcheon
DESCRIPTION:A special night of guests! Join the Mobile County Republican Party as we host the following events on July 7: \n5:30 pm-6:15 pm Light supper\, Meet and Greet ALGOP Statewide Candidates\n6:15 pm-7:00 pm Special Guest Mr. Shaun McCutcheon speaks on his April 2014 win in the US Supreme Court. Book signing available. www.shaunmccutcheon.com\n7:00 pm MCREC Business Meeting\nThe public is welcome to attend all events.
URL:https://algop.org/event/mobile-county-executive-committee-meet-greet-candidatesbook-signing-shaun-mccutcheon/
LOCATION:Westminster Presbyterian Church\, Corner of Sage Ave and Airport Blvd\, Mobile\, AL\, United States
ORGANIZER;CN="Mobile%20County%20Republican%20Executive%20Committee":MAILTO:info@mobilegop.com
END:VEVENT
END:VCALENDAR