BEGIN:VCALENDAR
VERSION:2.0
PRODID:-//Alabama Republican Party - ECPv5.8.2//NONSGML v1.0//EN
CALSCALE:GREGORIAN
METHOD:PUBLISH
X-WR-CALNAME:Alabama Republican Party
X-ORIGINAL-URL:https://algop.org
X-WR-CALDESC:Events for Alabama Republican Party
BEGIN:VTIMEZONE
TZID:America/Chicago
BEGIN:DAYLIGHT
TZOFFSETFROM:-0600
TZOFFSETTO:-0500
TZNAME:CDT
DTSTART:20190310T080000
END:DAYLIGHT
BEGIN:STANDARD
TZOFFSETFROM:-0500
TZOFFSETTO:-0600
TZNAME:CST
DTSTART:20191103T070000
END:STANDARD
END:VTIMEZONE
BEGIN:VEVENT
DTSTART;TZID=America/Chicago:20190309T083000
DTEND;TZID=America/Chicago:20190309T103000
DTSTAMP:20260424T064429
CREATED:20190305T234348Z
LAST-MODIFIED:20190305T234348Z
UID:24171-1552120200-1552127400@algop.org
SUMMARY:Mid Alabama Republican Club March Meeting
DESCRIPTION:The Mid Alabama Republican Club will be hosting Alabama Secretary of State John Merrill and ALGOP Chairman Terry Lathan as guest speakers. Social time begins at 8:30 AM and the meeting begins at 9:00 AM.
URL:https://algop.org/event/mid-alabama-republican-club-march-meeting/
LOCATION:Vestavia Hills Library\, Birmingham\, AL\, United States
END:VEVENT
END:VCALENDAR