BEGIN:VCALENDAR
VERSION:2.0
PRODID:-//Alabama Republican Party - ECPv5.8.2//NONSGML v1.0//EN
CALSCALE:GREGORIAN
METHOD:PUBLISH
X-WR-CALNAME:Alabama Republican Party
X-ORIGINAL-URL:https://algop.org
X-WR-CALDESC:Events for Alabama Republican Party
BEGIN:VTIMEZONE
TZID:America/Chicago
BEGIN:DAYLIGHT
TZOFFSETFROM:-0600
TZOFFSETTO:-0500
TZNAME:CDT
DTSTART:20190310T080000
END:DAYLIGHT
BEGIN:STANDARD
TZOFFSETFROM:-0500
TZOFFSETTO:-0600
TZNAME:CST
DTSTART:20191103T070000
END:STANDARD
END:VTIMEZONE
BEGIN:VEVENT
DTSTART;TZID=America/Chicago:20190413T090000
DTEND;TZID=America/Chicago:20190413T100000
DTSTAMP:20260424T080437
CREATED:20190406T024312Z
LAST-MODIFIED:20190406T024312Z
UID:24731-1555146000-1555149600@algop.org
SUMMARY:MARC April Meeting with Attorney General Steve Marshall
DESCRIPTION:Saturday\, April 13\, 2019 at 9 AM – 10 AM at the Vestavia Hills Public Library \n1221 Montgomery Hwy\, Vestavia Hills\, Alabama 35216 \n  \nBreakfast and fellowship starts at 8:30 AM — meeting begins at 9 AM.
URL:https://algop.org/event/marc-april-meeting-with-attorney-general-steve-marshall/
LOCATION:Vestavia Hills Library\, Birmingham\, AL\, United States
END:VEVENT
END:VCALENDAR