BEGIN:VCALENDAR
VERSION:2.0
PRODID:-//Alabama Republican Party - ECPv5.8.2//NONSGML v1.0//EN
CALSCALE:GREGORIAN
METHOD:PUBLISH
X-WR-CALNAME:Alabama Republican Party
X-ORIGINAL-URL:https://algop.org
X-WR-CALDESC:Events for Alabama Republican Party
BEGIN:VTIMEZONE
TZID:America/Chicago
BEGIN:DAYLIGHT
TZOFFSETFROM:-0600
TZOFFSETTO:-0500
TZNAME:CDT
DTSTART:20190310T080000
END:DAYLIGHT
BEGIN:STANDARD
TZOFFSETFROM:-0500
TZOFFSETTO:-0600
TZNAME:CST
DTSTART:20191103T070000
END:STANDARD
END:VTIMEZONE
BEGIN:VEVENT
DTSTART;TZID=America/Chicago:20190416T180000
DTEND;TZID=America/Chicago:20190416T193000
DTSTAMP:20260424T092511
CREATED:20190129T044130Z
LAST-MODIFIED:20190129T044130Z
UID:23669-1555437600-1555443000@algop.org
SUMMARY:Madison County Young Republicans Meeting
DESCRIPTION:Date: Tuesday\, April 16 \nTime: 6:00PM-7:30PM \nLocation: Yellowhammer Brewery \n2600 Clinton Ave W\, Huntsville\, AL 35805.
URL:https://algop.org/event/madison-county-young-republicans-meeting-3/
END:VEVENT
END:VCALENDAR