BEGIN:VCALENDAR
VERSION:2.0
PRODID:-//Alabama Republican Party - ECPv5.8.2//NONSGML v1.0//EN
CALSCALE:GREGORIAN
METHOD:PUBLISH
X-WR-CALNAME:Alabama Republican Party
X-ORIGINAL-URL:https://algop.org
X-WR-CALDESC:Events for Alabama Republican Party
BEGIN:VTIMEZONE
TZID:America/Chicago
BEGIN:DAYLIGHT
TZOFFSETFROM:-0600
TZOFFSETTO:-0500
TZNAME:CDT
DTSTART:20200308T080000
END:DAYLIGHT
BEGIN:STANDARD
TZOFFSETFROM:-0500
TZOFFSETTO:-0600
TZNAME:CST
DTSTART:20201101T070000
END:STANDARD
END:VTIMEZONE
BEGIN:VEVENT
DTSTART;TZID=America/Chicago:20200921T190000
DTEND;TZID=America/Chicago:20200921T200000
DTSTAMP:20260424T014738
CREATED:20200819T142810Z
LAST-MODIFIED:20200819T142810Z
UID:27005-1600714800-1600718400@algop.org
SUMMARY:Madison County Republican Party Meeting
DESCRIPTION:virtual via Zoom (for the time being)
URL:https://algop.org/event/madison-county-republican-party-meeting/2020-09-21/
END:VEVENT
END:VCALENDAR