BEGIN:VCALENDAR
VERSION:2.0
PRODID:-//Alabama Republican Party - ECPv5.8.2//NONSGML v1.0//EN
CALSCALE:GREGORIAN
METHOD:PUBLISH
X-WR-CALNAME:Alabama Republican Party
X-ORIGINAL-URL:https://algop.org
X-WR-CALDESC:Events for Alabama Republican Party
BEGIN:VTIMEZONE
TZID:America/Chicago
BEGIN:DAYLIGHT
TZOFFSETFROM:-0600
TZOFFSETTO:-0500
TZNAME:CDT
DTSTART:20200308T080000
END:DAYLIGHT
BEGIN:STANDARD
TZOFFSETFROM:-0500
TZOFFSETTO:-0600
TZNAME:CST
DTSTART:20201101T070000
END:STANDARD
END:VTIMEZONE
BEGIN:VEVENT
DTSTART;TZID=America/Chicago:20200418T083000
DTEND;TZID=America/Chicago:20200418T100000
DTSTAMP:20260424T051154
CREATED:20200413T161801Z
LAST-MODIFIED:20200413T161908Z
UID:26692-1587198600-1587204000@algop.org
SUMMARY:Madison County Republican Men’s Club *VIRTUAL MEETING*
DESCRIPTION:There will not be an actual meeting of the Madison County Republican Men’s Club in April\, but a virtual meeting. \nThis virtual meeting will be this coming Saturday\, April 18th\, and will begin at 8:30 a. m. This will be the 424th consecutive monthly meeting of the club. \nThe speaker will be Madison County Sheriff Kevin Turner. \nLadies are welcome to participate and so are visitors. There are no club dues. \nYou can participate by Zoom and see and hear the speaker or by audio only. \nFor more information on how to participate in the April virtual meeting\, visit the Madison County Republican Party website at  http://mgop.org/men or call Elbert Peters at 256-337-9877.
URL:https://algop.org/event/madison-county-republican-mens-club-virtual-meeting/
END:VEVENT
END:VCALENDAR