BEGIN:VCALENDAR
VERSION:2.0
PRODID:-//Alabama Republican Party - ECPv5.8.2//NONSGML v1.0//EN
CALSCALE:GREGORIAN
METHOD:PUBLISH
X-WR-CALNAME:Alabama Republican Party
X-ORIGINAL-URL:https://algop.org
X-WR-CALDESC:Events for Alabama Republican Party
BEGIN:VTIMEZONE
TZID:America/Chicago
BEGIN:DAYLIGHT
TZOFFSETFROM:-0600
TZOFFSETTO:-0500
TZNAME:CDT
DTSTART:20150308T080000
END:DAYLIGHT
BEGIN:STANDARD
TZOFFSETFROM:-0500
TZOFFSETTO:-0600
TZNAME:CST
DTSTART:20151101T070000
END:STANDARD
END:VTIMEZONE
BEGIN:VEVENT
DTSTART;TZID=America/Chicago:20151019T190000
DTEND;TZID=America/Chicago:20151019T203000
DTSTAMP:20260424T034949
CREATED:20151008T175907Z
LAST-MODIFIED:20151008T175907Z
UID:13550-1445281200-1445286600@algop.org
SUMMARY:Madison County Republican Executive Committee Meeting
DESCRIPTION:The Madison County Republican Executive Committee will meet on Monday\, October 19 at 7:00 pm at Madison County Republican Headquarters\, 806 Governors Drive\, Suite 201\, Huntsville\, AL 35801. For more information\, please contact Chairman Sam Givhan at 256-426-7010 or sgivhan@wilmerlee.com
URL:https://algop.org/event/madison-county-republican-executive-committee-meeting-2/
LOCATION:Madison County Republican Headquarters\, 2801 Memorial Parkway S.\, Huntsville\, AL\, 35801\, United States
ORGANIZER;CN="Chairman%20Sam%20Givhan":MAILTO:sgivhan@wilmerlee.com
END:VEVENT
END:VCALENDAR