BEGIN:VCALENDAR
VERSION:2.0
PRODID:-//Alabama Republican Party - ECPv5.8.2//NONSGML v1.0//EN
CALSCALE:GREGORIAN
METHOD:PUBLISH
X-WR-CALNAME:Alabama Republican Party
X-ORIGINAL-URL:https://algop.org
X-WR-CALDESC:Events for Alabama Republican Party
BEGIN:VTIMEZONE
TZID:America/Chicago
BEGIN:DAYLIGHT
TZOFFSETFROM:-0600
TZOFFSETTO:-0500
TZNAME:CDT
DTSTART:20180311T080000
END:DAYLIGHT
BEGIN:STANDARD
TZOFFSETFROM:-0500
TZOFFSETTO:-0600
TZNAME:CST
DTSTART:20181104T070000
END:STANDARD
END:VTIMEZONE
BEGIN:VEVENT
DTSTART;TZID=America/Chicago:20180515T190000
DTEND;TZID=America/Chicago:20180515T190000
DTSTAMP:20260423T170847
CREATED:20180503T194215Z
LAST-MODIFIED:20180503T194215Z
UID:22341-1526410800-1526410800@algop.org
SUMMARY:Limestone County GOP May Meeting
DESCRIPTION:
URL:https://algop.org/event/limestone-county-gop-may-meeting/
LOCATION:Valley Event Center\, 22335 US Highway 72\, Athens\, AL\, 35613\, United States
END:VEVENT
END:VCALENDAR