BEGIN:VCALENDAR
VERSION:2.0
PRODID:-//Alabama Republican Party - ECPv5.8.2//NONSGML v1.0//EN
CALSCALE:GREGORIAN
METHOD:PUBLISH
X-WR-CALNAME:Alabama Republican Party
X-ORIGINAL-URL:https://algop.org
X-WR-CALDESC:Events for Alabama Republican Party
BEGIN:VTIMEZONE
TZID:America/Chicago
BEGIN:DAYLIGHT
TZOFFSETFROM:-0600
TZOFFSETTO:-0500
TZNAME:CDT
DTSTART:20150308T080000
END:DAYLIGHT
BEGIN:STANDARD
TZOFFSETFROM:-0500
TZOFFSETTO:-0600
TZNAME:CST
DTSTART:20151101T070000
END:STANDARD
END:VTIMEZONE
BEGIN:VEVENT
DTSTART;TZID=America/Chicago:20150806T193000
DTEND;TZID=America/Chicago:20150806T210000
DTSTAMP:20260424T230647
CREATED:20150803T164653Z
LAST-MODIFIED:20150803T164653Z
UID:13459-1438889400-1438894800@algop.org
SUMMARY:Lauderdale County GOP Presidential Debate Watching Party
DESCRIPTION:Please join us for a GOP Debate-Watching Party on August 6 at 7:30 pm at 72 Roadhouse in Rogersville\, AL. There will be TV\, Newspaper\, Radio\, and even AP attending. \nCome and decide for yourself the Presidential Candidate you think has what it takes to call 1600 Pennsylvania Ave their address next year! \nCome early and have a great meal because we are expecting a “packed out” house ! \n  \nhttps://www.facebook.com/events/815004475281604/
URL:https://algop.org/event/lauderdale-county-gop-presidential-debate-watching-party/
END:VEVENT
END:VCALENDAR