BEGIN:VCALENDAR
VERSION:2.0
PRODID:-//Alabama Republican Party - ECPv5.8.2//NONSGML v1.0//EN
CALSCALE:GREGORIAN
METHOD:PUBLISH
X-WR-CALNAME:Alabama Republican Party
X-ORIGINAL-URL:https://algop.org
X-WR-CALDESC:Events for Alabama Republican Party
BEGIN:VTIMEZONE
TZID:America/Chicago
BEGIN:DAYLIGHT
TZOFFSETFROM:-0600
TZOFFSETTO:-0500
TZNAME:CDT
DTSTART:20200308T080000
END:DAYLIGHT
BEGIN:STANDARD
TZOFFSETFROM:-0500
TZOFFSETTO:-0600
TZNAME:CST
DTSTART:20201101T070000
END:STANDARD
END:VTIMEZONE
BEGIN:VEVENT
DTSTART;TZID=America/Chicago:20200229T080000
DTEND;TZID=America/Chicago:20200229T103000
DTSTAMP:20260424T084529
CREATED:20191230T183704Z
LAST-MODIFIED:20200225T194201Z
UID:26250-1582963200-1582972200@algop.org
SUMMARY:Jefferson County GOP Candidate Pancake Breakfast
DESCRIPTION:
URL:https://algop.org/event/jefferson-county-gop-pancake-breakfast/
LOCATION:Vestavia Hills Civic Center\, 1090 Montgomery Highway\, Vestavia Hills\, AL\, 35216
ORGANIZER;CN="":MAILTO:jeannie@algop.com
END:VEVENT
END:VCALENDAR