BEGIN:VCALENDAR
VERSION:2.0
PRODID:-//Alabama Republican Party - ECPv5.8.2//NONSGML v1.0//EN
CALSCALE:GREGORIAN
METHOD:PUBLISH
X-WR-CALNAME:Alabama Republican Party
X-ORIGINAL-URL:https://algop.org
X-WR-CALDESC:Events for Alabama Republican Party
BEGIN:VTIMEZONE
TZID:America/Chicago
BEGIN:DAYLIGHT
TZOFFSETFROM:-0600
TZOFFSETTO:-0500
TZNAME:CDT
DTSTART:20150308T080000
END:DAYLIGHT
BEGIN:STANDARD
TZOFFSETFROM:-0500
TZOFFSETTO:-0600
TZNAME:CST
DTSTART:20151101T070000
END:STANDARD
END:VTIMEZONE
BEGIN:VEVENT
DTSTART;TZID=America/Chicago:20151020T173000
DTEND;TZID=America/Chicago:20151020T190000
DTSTAMP:20260424T003650
CREATED:20150417T150847Z
LAST-MODIFIED:20150417T150847Z
UID:13161-1445362200-1445367600@algop.org
SUMMARY:Jackson County Executive Committee Meeting
DESCRIPTION:Quarterly meeting of the Jackson County Executive Committee at Western Sizzlin in Scottsboro\, AL. Dinner at 5:30pm\, meeting at 6:00pm. For more information\, please contact Ellen O’Connor at efoc1004@gmail.com
URL:https://algop.org/event/jackson-county-executive-committee-meeting-2/
END:VEVENT
END:VCALENDAR