BEGIN:VCALENDAR
VERSION:2.0
PRODID:-//Alabama Republican Party - ECPv5.8.2//NONSGML v1.0//EN
CALSCALE:GREGORIAN
METHOD:PUBLISH
X-WR-CALNAME:Alabama Republican Party
X-ORIGINAL-URL:https://algop.org
X-WR-CALDESC:Events for Alabama Republican Party
BEGIN:VTIMEZONE
TZID:America/Chicago
BEGIN:DAYLIGHT
TZOFFSETFROM:-0600
TZOFFSETTO:-0500
TZNAME:CDT
DTSTART:20190310T080000
END:DAYLIGHT
BEGIN:STANDARD
TZOFFSETFROM:-0500
TZOFFSETTO:-0600
TZNAME:CST
DTSTART:20191103T070000
END:STANDARD
END:VTIMEZONE
BEGIN:VEVENT
DTSTART;TZID=America/Chicago:20190311T120000
DTEND;TZID=America/Chicago:20190311T130000
DTSTAMP:20260424T064445
CREATED:20190219T014343Z
LAST-MODIFIED:20190219T014343Z
UID:23961-1552305600-1552309200@algop.org
SUMMARY:Greater Birmingham Republican Women Monthly Meeting
DESCRIPTION:Date: Monday\, March 11\, 2019 \nTime: 12 PM – 1 PM \nLocation: The Gardens Cafe \n2612 Lane Park Rd\, Birmingham\, Alabama 35223
URL:https://algop.org/event/greater-birmingham-republican-women-monthly-meeting/
END:VEVENT
END:VCALENDAR