BEGIN:VCALENDAR
VERSION:2.0
PRODID:-//Alabama Republican Party - ECPv5.8.2//NONSGML v1.0//EN
CALSCALE:GREGORIAN
METHOD:PUBLISH
X-WR-CALNAME:Alabama Republican Party
X-ORIGINAL-URL:https://algop.org
X-WR-CALDESC:Events for Alabama Republican Party
BEGIN:VTIMEZONE
TZID:America/Chicago
BEGIN:DAYLIGHT
TZOFFSETFROM:-0600
TZOFFSETTO:-0500
TZNAME:CDT
DTSTART:20200308T080000
END:DAYLIGHT
BEGIN:STANDARD
TZOFFSETFROM:-0500
TZOFFSETTO:-0600
TZNAME:CST
DTSTART:20201101T070000
END:STANDARD
END:VTIMEZONE
BEGIN:VEVENT
DTSTART;TZID=America/Chicago:20200229T110000
DTEND;TZID=America/Chicago:20200229T140000
DTSTAMP:20260424T084658
CREATED:20200203T160045Z
LAST-MODIFIED:20200203T160045Z
UID:26457-1582974000-1582984800@algop.org
SUMMARY:East Alabama Republican Party Whatley Stew Cooking & BBQ
DESCRIPTION:
URL:https://algop.org/event/east-alabama-republican-party-whatley-stew-cooking-bbq/
LOCATION:home of Jean & Ernest Whatley\, 606 Lee Rd 112\, Opelika\, AL\, 36804\, United States
END:VEVENT
END:VCALENDAR