BEGIN:VCALENDAR
VERSION:2.0
PRODID:-//Alabama Republican Party - ECPv5.8.2//NONSGML v1.0//EN
CALSCALE:GREGORIAN
METHOD:PUBLISH
X-WR-CALNAME:Alabama Republican Party
X-ORIGINAL-URL:https://algop.org
X-WR-CALDESC:Events for Alabama Republican Party
BEGIN:VTIMEZONE
TZID:America/New_York
BEGIN:DAYLIGHT
TZOFFSETFROM:-0500
TZOFFSETTO:-0400
TZNAME:EDT
DTSTART:20200308T070000
END:DAYLIGHT
BEGIN:STANDARD
TZOFFSETFROM:-0400
TZOFFSETTO:-0500
TZNAME:EST
DTSTART:20201101T060000
END:STANDARD
END:VTIMEZONE
BEGIN:VEVENT
DTSTART;TZID=America/New_York:20201001T183000
DTEND;TZID=America/New_York:20201001T193000
DTSTAMP:20260423T223410
CREATED:20200910T175328Z
LAST-MODIFIED:20240122T193010Z
UID:27086-1601577000-1601580600@algop.org
SUMMARY:East Alabama Republican Club
DESCRIPTION:Please note that all times are in EASTERN not Central.  Thank you! \n\nRSVP to Kelley Ann Foy\nemail – kelley@kelleyannfoy.com\nPhone – 831-402-0432\n\n 
URL:https://algop.org/event/east-alabama-republican-club-2/2020-10-01/
LOCATION:T-Bone Restaurant\, 3747 U.S. HIghway 80 West\, Phenix City\, AL\, 36870\, United States
END:VEVENT
END:VCALENDAR