BEGIN:VCALENDAR
VERSION:2.0
PRODID:-//Alabama Republican Party - ECPv5.8.2//NONSGML v1.0//EN
CALSCALE:GREGORIAN
METHOD:PUBLISH
X-WR-CALNAME:Alabama Republican Party
X-ORIGINAL-URL:https://algop.org
X-WR-CALDESC:Events for Alabama Republican Party
BEGIN:VTIMEZONE
TZID:America/Chicago
BEGIN:DAYLIGHT
TZOFFSETFROM:-0600
TZOFFSETTO:-0500
TZNAME:CDT
DTSTART:20190310T080000
END:DAYLIGHT
BEGIN:STANDARD
TZOFFSETFROM:-0500
TZOFFSETTO:-0600
TZNAME:CST
DTSTART:20191103T070000
END:STANDARD
END:VTIMEZONE
BEGIN:VEVENT
DTSTART;TZID=America/Chicago:20190312T180000
DTEND;TZID=America/Chicago:20190312T200000
DTSTAMP:20260424T064232
CREATED:20190312T150123Z
LAST-MODIFIED:20190312T150123Z
UID:24240-1552413600-1552420800@algop.org
SUMMARY:DeKalb County Republicans Executive Committee Meeting
DESCRIPTION:Date: Tuesday\, March 12 \nTime: 6PM \nLocation: Commission Chambers in the Activities Building \n111 Grand Ave SW\, Fort Payne\, AL 35967
URL:https://algop.org/event/dekalb-county-republicans-executive-committee-meeting/
END:VEVENT
END:VCALENDAR