BEGIN:VCALENDAR
VERSION:2.0
PRODID:-//Alabama Republican Party - ECPv5.8.2//NONSGML v1.0//EN
CALSCALE:GREGORIAN
METHOD:PUBLISH
X-WR-CALNAME:Alabama Republican Party
X-ORIGINAL-URL:https://algop.org
X-WR-CALDESC:Events for Alabama Republican Party
BEGIN:VTIMEZONE
TZID:America/Chicago
BEGIN:DAYLIGHT
TZOFFSETFROM:-0600
TZOFFSETTO:-0500
TZNAME:CDT
DTSTART:20200308T080000
END:DAYLIGHT
BEGIN:STANDARD
TZOFFSETFROM:-0500
TZOFFSETTO:-0600
TZNAME:CST
DTSTART:20201101T070000
END:STANDARD
END:VTIMEZONE
BEGIN:VEVENT
DTSTART;TZID=America/Chicago:20201009T180000
DTEND;TZID=America/Chicago:20201009T203000
DTSTAMP:20260423T223357
CREATED:20200902T160140Z
LAST-MODIFIED:20200902T160140Z
UID:27053-1602266400-1602275400@algop.org
SUMMARY:Coosa County Republican Party General Election Gala
DESCRIPTION:
URL:https://algop.org/event/coosa-county-republican-party-general-election-gala/
LOCATION:Weogufka Center\, 145 Memorial Loop/County Rd 41\, Weogufka\, AL\, United States
END:VEVENT
END:VCALENDAR