BEGIN:VCALENDAR
VERSION:2.0
PRODID:-//Alabama Republican Party - ECPv5.8.2//NONSGML v1.0//EN
CALSCALE:GREGORIAN
METHOD:PUBLISH
X-WR-CALNAME:Alabama Republican Party
X-ORIGINAL-URL:https://algop.org
X-WR-CALDESC:Events for Alabama Republican Party
BEGIN:VTIMEZONE
TZID:America/Chicago
BEGIN:DAYLIGHT
TZOFFSETFROM:-0600
TZOFFSETTO:-0500
TZNAME:CDT
DTSTART:20190310T080000
END:DAYLIGHT
BEGIN:STANDARD
TZOFFSETFROM:-0500
TZOFFSETTO:-0600
TZNAME:CST
DTSTART:20191103T070000
END:STANDARD
END:VTIMEZONE
BEGIN:VEVENT
DTSTART;TZID=America/Chicago:20190323T073000
DTEND;TZID=America/Chicago:20190323T103000
DTSTAMP:20260424T064307
CREATED:20190129T043402Z
LAST-MODIFIED:20190129T043402Z
UID:23659-1553326200-1553337000@algop.org
SUMMARY:Alabama Minority GOP Meeting
DESCRIPTION:Date: Saturday\, March 23 \nTime: Breakfast at 7:30AM; meeting at 8:15AM \nLocation: Royal Rose Cafe \n1009 Memorial Parkway NW\, Huntsville\, AL 35801.
URL:https://algop.org/event/alabama-minority-gop-meeting-3/
END:VEVENT
END:VCALENDAR