BEGIN:VCALENDAR
VERSION:2.0
PRODID:-//Alabama Republican Party - ECPv5.8.2//NONSGML v1.0//EN
CALSCALE:GREGORIAN
METHOD:PUBLISH
X-WR-CALNAME:Alabama Republican Party
X-ORIGINAL-URL:https://algop.org
X-WR-CALDESC:Events for Alabama Republican Party
BEGIN:VTIMEZONE
TZID:America/Chicago
BEGIN:DAYLIGHT
TZOFFSETFROM:-0600
TZOFFSETTO:-0500
TZNAME:CDT
DTSTART:20190310T080000
END:DAYLIGHT
BEGIN:STANDARD
TZOFFSETFROM:-0500
TZOFFSETTO:-0600
TZNAME:CST
DTSTART:20191103T070000
END:STANDARD
END:VTIMEZONE
BEGIN:VEVENT
DTSTART;TZID=America/Chicago:20190223T080000
DTEND;TZID=America/Chicago:20190223T170000
DTSTAMP:20260424T062614
CREATED:20190129T031523Z
LAST-MODIFIED:20190129T031523Z
UID:23637-1550908800-1550941200@algop.org
SUMMARY:Alabama Minority GOP Meeting
DESCRIPTION:Date: Saturday\, February 23 \nTime: 7:30AM – 9:00AM \nLocation: Royal Rose Cafe \n1009 Memorial Parkway NW\, Huntsville\, AL 35801.
URL:https://algop.org/event/alabama-minority-gop-meeting-2/
END:VEVENT
END:VCALENDAR