BEGIN:VCALENDAR
VERSION:2.0
PRODID:-//Alabama Republican Party - ECPv5.8.2//NONSGML v1.0//EN
CALSCALE:GREGORIAN
METHOD:PUBLISH
X-WR-CALNAME:Alabama Republican Party
X-ORIGINAL-URL:https://algop.org
X-WR-CALDESC:Events for Alabama Republican Party
BEGIN:VTIMEZONE
TZID:America/Chicago
BEGIN:DAYLIGHT
TZOFFSETFROM:-0600
TZOFFSETTO:-0500
TZNAME:CDT
DTSTART:20190310T080000
END:DAYLIGHT
BEGIN:STANDARD
TZOFFSETFROM:-0500
TZOFFSETTO:-0600
TZNAME:CST
DTSTART:20191103T070000
END:STANDARD
END:VTIMEZONE
BEGIN:VEVENT
DTSTART;TZID=America/Chicago:20190315T190000
DTEND;TZID=America/Chicago:20190315T210000
DTSTAMP:20260424T075629
CREATED:20190123T030433Z
LAST-MODIFIED:20190123T030433Z
UID:23580-1552676400-1552683600@algop.org
SUMMARY:Alabama Minority GOP Banquet
DESCRIPTION:Special Guest Speaker: Rev. C.L. Bryant \nDate: Friday\, March 15 \nTime: 7PM \nLocation: Huntsville Marriott at the Space and Rocket Center \n5 Tranquility Base\, Huntsville\, AL 35805 \n  \n  \n 
URL:https://algop.org/event/alabama-minority-gop-banquet-2/
END:VEVENT
END:VCALENDAR