BEGIN:VCALENDAR
VERSION:2.0
PRODID:-//Alabama Republican Party - ECPv5.8.2//NONSGML v1.0//EN
CALSCALE:GREGORIAN
METHOD:PUBLISH
X-WR-CALNAME:Alabama Republican Party
X-ORIGINAL-URL:https://algop.org
X-WR-CALDESC:Events for Alabama Republican Party
BEGIN:VTIMEZONE
TZID:America/Chicago
BEGIN:DAYLIGHT
TZOFFSETFROM:-0600
TZOFFSETTO:-0500
TZNAME:CDT
DTSTART:20190310T080000
END:DAYLIGHT
BEGIN:STANDARD
TZOFFSETFROM:-0500
TZOFFSETTO:-0600
TZNAME:CST
DTSTART:20191103T070000
END:STANDARD
END:VTIMEZONE
BEGIN:VEVENT
DTSTART;TZID=America/Chicago:20190222T180000
DTEND;TZID=America/Chicago:20190222T200000
DTSTAMP:20260424T062325
CREATED:20190107T203511Z
LAST-MODIFIED:20190110T174659Z
UID:23066-1550858400-1550865600@algop.org
SUMMARY:2019 ALGOP Winter Dinner
DESCRIPTION:February 22\, 2018 @ 6:00 pm – 8:00 pm\n \nSponsor and General Receptions: 6 p.m. \nDinner: 7:00 p.m. \nTickets to the dinner can be purchased here. \n  \nSheraton Hotel address: \n2101 Richard Arrington Jr. Blvd N \nBirmingham\, AL 35203 \nReserve a room at the Westin for a discounted rate here.
URL:https://algop.org/event/2019-algop-winter-dinner/
END:VEVENT
END:VCALENDAR